BEGIN:VCALENDAR
VERSION:2.0
PRODID:-//Royalrangers Oensingen - ECPv5.7.0//NONSGML v1.0//EN
CALSCALE:GREGORIAN
METHOD:PUBLISH
X-WR-CALNAME:Royalrangers Oensingen
X-ORIGINAL-URL:https://royalrangers-oensingen.ch
X-WR-CALDESC:Veranstaltungen für Royalrangers Oensingen
BEGIN:VTIMEZONE
TZID:Europe/Berlin
BEGIN:DAYLIGHT
TZOFFSETFROM:+0100
TZOFFSETTO:+0200
TZNAME:CEST
DTSTART:20250330T010000
END:DAYLIGHT
BEGIN:STANDARD
TZOFFSETFROM:+0200
TZOFFSETTO:+0100
TZNAME:CET
DTSTART:20251026T010000
END:STANDARD
END:VTIMEZONE
BEGIN:VEVENT
DTSTART;VALUE=DATE:20250920
DTEND;VALUE=DATE:20250922
DTSTAMP:20260421T130557
CREATED:20250706T112403Z
LAST-MODIFIED:20250706T112403Z
UID:3022-1758326400-1758499199@royalrangers-oensingen.ch
SUMMARY:RR Wochenende
DESCRIPTION:Infos folgen
URL:https://royalrangers-oensingen.ch/event/rr-wochenende/
CATEGORIES:Lager
ATTACH;FMTTYPE=image/jpeg:https://royalrangers-oensingen.ch/wp-content/uploads/2018/09/P1110582.jpg
ORGANIZER;CN="Royalrangers%20Oensingen":MAILTO:royalrangers@fcg-oensingen.ch
END:VEVENT
END:VCALENDAR