BEGIN:VCALENDAR
VERSION:2.0
PRODID:-//Royalrangers Oensingen - ECPv5.7.0//NONSGML v1.0//EN
CALSCALE:GREGORIAN
METHOD:PUBLISH
X-WR-CALNAME:Royalrangers Oensingen
X-ORIGINAL-URL:https://royalrangers-oensingen.ch
X-WR-CALDESC:Veranstaltungen für Royalrangers Oensingen
BEGIN:VTIMEZONE
TZID:Europe/Berlin
BEGIN:DAYLIGHT
TZOFFSETFROM:+0100
TZOFFSETTO:+0200
TZNAME:CEST
DTSTART:20250330T010000
END:DAYLIGHT
BEGIN:STANDARD
TZOFFSETFROM:+0200
TZOFFSETTO:+0100
TZNAME:CET
DTSTART:20251026T010000
END:STANDARD
END:VTIMEZONE
BEGIN:VEVENT
DTSTART;TZID=Europe/Berlin:20250614T140000
DTEND;TZID=Europe/Berlin:20250614T170000
DTSTAMP:20260419T150147
CREATED:20250110T142403Z
LAST-MODIFIED:20250521T114943Z
UID:2972-1749909600-1749920400@royalrangers-oensingen.ch
SUMMARY:RR Nachmittag / Stammtreff
DESCRIPTION:Bei jedem Stammtreff wirst du neu überrascht! Gemeinsam erforschen wir den Wald und die Natur\, gekocht wird auf offenem Feuer. Spannende Spiele\, die Technik eines Rangers erlernen und viel Zeit um über Gott und das Leben zu reden gehören zum Ranger-Alltag dazu. \nBei Interesse bitte gerne jederzeit melden.
URL:https://royalrangers-oensingen.ch/event/rr-nachmittag-stammtreff-22/
LOCATION:Gummertliweg 7\, Oensingen\, Gummertliweg 7\, Oensingen\, 4702\, Schweiz
CATEGORIES:RR Nachmittag / Stammtreff
ATTACH;FMTTYPE=image/jpeg:https://royalrangers-oensingen.ch/wp-content/uploads/2021/05/DSC_0114-scaled.jpg
ORGANIZER;CN="Royalrangers%20Oensingen":MAILTO:royalrangers@fcg-oensingen.ch
END:VEVENT
END:VCALENDAR