BEGIN:VCALENDAR
VERSION:2.0
PRODID:-//Royalrangers Oensingen - ECPv5.7.0//NONSGML v1.0//EN
CALSCALE:GREGORIAN
METHOD:PUBLISH
X-WR-CALNAME:Royalrangers Oensingen
X-ORIGINAL-URL:https://royalrangers-oensingen.ch
X-WR-CALDESC:Veranstaltungen für Royalrangers Oensingen
BEGIN:VTIMEZONE
TZID:Europe/Berlin
BEGIN:DAYLIGHT
TZOFFSETFROM:+0100
TZOFFSETTO:+0200
TZNAME:CEST
DTSTART:20250330T010000
END:DAYLIGHT
BEGIN:STANDARD
TZOFFSETFROM:+0200
TZOFFSETTO:+0100
TZNAME:CET
DTSTART:20251026T010000
END:STANDARD
END:VTIMEZONE
BEGIN:VEVENT
DTSTART;VALUE=DATE:20250529
DTEND;VALUE=DATE:20250602
DTSTAMP:20260419T164053
CREATED:20250110T142239Z
LAST-MODIFIED:20250227T085544Z
UID:2970-1748476800-1748822399@royalrangers-oensingen.ch
SUMMARY:Auffahrtslager
DESCRIPTION:Infos folgen \nFL_2025_AufLa_TN
URL:https://royalrangers-oensingen.ch/event/auffahrtslager-2/
LOCATION:Gummertliweg 7\, Oensingen\, Gummertliweg 7\, Oensingen\, 4702\, Schweiz
CATEGORIES:Lager
ATTACH;FMTTYPE=image/jpeg:https://royalrangers-oensingen.ch/wp-content/uploads/2024/06/DSC_0009-scaled.jpeg
ORGANIZER;CN="Royalrangers%20Oensingen":MAILTO:royalrangers@fcg-oensingen.ch
END:VEVENT
END:VCALENDAR